BEGIN:VCALENDAR
VERSION:2.0
PRODID:-//91.233.84.75//NONSGML kigkonsult.se iCalcreator 2.24//
CALSCALE:GREGORIAN
METHOD:PUBLISH
X-WR-TIMEZONE:Europe/Berlin
BEGIN:VTIMEZONE
TZID:Europe/Berlin
X-LIC-LOCATION:Europe/Berlin
BEGIN:STANDARD
DTSTART:19701025T030000
TZOFFSETFROM:+0200
TZOFFSETTO:+0100
TZNAME:CET
END:STANDARD
BEGIN:DAYLIGHT
DTSTART:19700329T020000
TZOFFSETFROM:+0100
TZOFFSETTO:+0200
TZNAME:CEST
END:DAYLIGHT
END:VTIMEZONE
BEGIN:VEVENT
UID:20260421T162654CEST-717310c511@91.233.84.75
DTSTAMP:20260421T142654Z
DESCRIPTION:Schlagzeuger des 70. Festival junger Künstler Bayreuth mit Werk
 en u. a. von G. Burton\, N. Rosauro\, N. J. Živković.\nLeitung und Moderat
 ion: Prof. Cornelia Monske
DTSTART:20200809T170000
DTEND:20200809T170000
GEO:+49.99884;+11.78349
LOCATION:Freizeithaus &#40\;Open Air&#41\;\, Oberwarmensteinacher Straße 42
 0\, 95485 Warmensteinach\, Deutschland
SUMMARY:Talking Drums im Steinachtal
URL:https://www.youngartistsbayreuth.de/en/event/talking-drums-im-steinacht
 al-09-08-2020-17-00.html
X-APPLE-STRUCTURED-LOCATION;VALUE=URI;X-ADDRESS="Oberwarmensteinacher Straß
 e 420, Warmensteinach, 95485, Deutschland";X-APPLE-RADIUS=100;X-TITLE=Talk
 ing Drums im Steinachtal:GEO:49.99884\,11.78349
END:VEVENT
END:VCALENDAR
