BEGIN:VCALENDAR
VERSION:2.0
PRODID:-//91.233.84.75//NONSGML kigkonsult.se iCalcreator 2.24//
CALSCALE:GREGORIAN
METHOD:PUBLISH
X-WR-TIMEZONE:Europe/Berlin
BEGIN:VTIMEZONE
TZID:Europe/Berlin
X-LIC-LOCATION:Europe/Berlin
BEGIN:STANDARD
DTSTART:19701025T030000
TZOFFSETFROM:+0200
TZOFFSETTO:+0100
TZNAME:CET
END:STANDARD
BEGIN:DAYLIGHT
DTSTART:19700329T020000
TZOFFSETFROM:+0100
TZOFFSETTO:+0200
TZNAME:CEST
END:DAYLIGHT
END:VTIMEZONE
BEGIN:VEVENT
UID:20260421T162538CEST-8124ffa47f@91.233.84.75
DTSTAMP:20260421T142538Z
DESCRIPTION:\nA. Copland: Fanfare for the Common Man\nC. Ives: The Unanswer
 ed Question\nM. Lauridsen: Sure On This Shining Night\nS. Barber: Sure On 
 This Shining Night\nS. Barber: Agnus Dei\nJ. Mitchell: Blue\nL. Bernstein:
  Chichester Psalms\n\nSolist:innen\, Chor und Orchester der Musikakademie 
 der Studienstiftung des deutschen Volkes in Kooperation mit dem 73. Festiv
 al junger Künstler Bayreuth\nMusikalische Leitung: Mark Gibson\nSolist: Ka
 i Wessel\, Countertenor
DTSTART:20230805T190000
DTEND:20230805T190000
GEO:+49.943155;+11.574541
LOCATION:Stadtkirche Heilig Dreifaltigkeit\, Kirchplatz 1\, 95444 Bayreuth\
 , Deutschland
SUMMARY:The Unanswered Question
URL:https://www.youngartistsbayreuth.de/en/event/the-unanswered-question-05
 -08-2023-19-00.html
X-APPLE-STRUCTURED-LOCATION;VALUE=URI;X-ADDRESS="Kirchplatz 1, Bayreuth, 95
 444, Deutschland";X-APPLE-RADIUS=100;X-TITLE=The Unanswered Question:GEO:4
 9.9431552\,11.5745409
END:VEVENT
END:VCALENDAR
