BEGIN:VCALENDAR
VERSION:2.0
PRODID:-//91.233.84.75//NONSGML kigkonsult.se iCalcreator 2.24//
CALSCALE:GREGORIAN
METHOD:PUBLISH
X-WR-TIMEZONE:Europe/Berlin
BEGIN:VTIMEZONE
TZID:Europe/Berlin
X-LIC-LOCATION:Europe/Berlin
BEGIN:STANDARD
DTSTART:19701025T030000
TZOFFSETFROM:+0200
TZOFFSETTO:+0100
TZNAME:CET
END:STANDARD
BEGIN:DAYLIGHT
DTSTART:19700329T020000
TZOFFSETFROM:+0100
TZOFFSETTO:+0200
TZNAME:CEST
END:DAYLIGHT
END:VTIMEZONE
BEGIN:VEVENT
UID:20260421T162533CEST-3363bc318d@91.233.84.75
DTSTAMP:20260421T142533Z
DESCRIPTION:Konzert mit Werken von u.a. W. A. Mozart\, C. Debussy\, F. Mend
 elssohn Bartholdy\, J. Parker\nKammerorchester des Polizeiorchesters Bayer
 n zusammen mit Solisten des 71. Festival junger Künstler Bayreuth\nHerbert
  Hornig\, TubaPeter Seufert\, SaxofonMohamad Fityan\, NayJames Young\, Bar
 iton\nDirigent: GMD Prof. Johann Mösenbichler\n \nbei Schlechtwetter: Klos
 terkirche Maria Immaculata
DTSTART:20210815T180000
DTEND:20210815T180000
GEO:+49.786969;+11.82031
LOCATION:Innenhof der Abtei &#40\;Open Air&#41\;\, Kloster\, 92676 Speinsha
 rt\, Deutschland
SUMMARY:Tradition und Transformation
URL:https://www.youngartistsbayreuth.de/en/event/tradition-und-transformati
 on-15-08-2021-18-00.html
X-APPLE-STRUCTURED-LOCATION;VALUE=URI;X-ADDRESS="Kloster, Speinshart, 92676
 , Deutschland";X-APPLE-RADIUS=100;X-TITLE=Tradition und Transformation:GEO
 :49.7869694\,11.8203095
END:VEVENT
END:VCALENDAR
