BEGIN:VCALENDAR
VERSION:2.0
PRODID:-//91.233.84.75//NONSGML kigkonsult.se iCalcreator 2.24//
CALSCALE:GREGORIAN
METHOD:PUBLISH
X-WR-TIMEZONE:Europe/Berlin
BEGIN:VTIMEZONE
TZID:Europe/Berlin
X-LIC-LOCATION:Europe/Berlin
BEGIN:STANDARD
DTSTART:19701025T030000
TZOFFSETFROM:+0200
TZOFFSETTO:+0100
TZNAME:CET
END:STANDARD
BEGIN:DAYLIGHT
DTSTART:19700329T020000
TZOFFSETFROM:+0100
TZOFFSETTO:+0200
TZNAME:CEST
END:DAYLIGHT
END:VTIMEZONE
BEGIN:VEVENT
UID:20260421T164757CEST-1195714d4c@91.233.84.75
DTSTAMP:20260421T144757Z
DESCRIPTION:Dieses Konzert der Christian Benning Percussion Group widmet si
 ch Werken der christlichen und jüdischen Tradition sowie der arabischen Mu
 sik.\nIm Rahmen des 72. Festival junger Künstler Bayreuth\nBei Schlechtwet
 ter:Klosterkirche Maria Immaculata
DTSTART:20220812T190000
DTEND:20220812T190000
GEO:+49.786969;+11.82031
LOCATION:Innenhof der Abtei &#40\;Open Air&#41\;\, Kloster\, 92676 Speinsha
 rt\, Deutschland
SUMMARY:Transkulturelle Symphonie
URL:https://www.youngartistsbayreuth.de/en/event/transkulturelle-symphonie-
 12-08-2022-19-00.html
X-APPLE-STRUCTURED-LOCATION;VALUE=URI;X-ADDRESS="Kloster, Speinshart, 92676
 , Deutschland";X-APPLE-RADIUS=100;X-TITLE=Transkulturelle Symphonie:GEO:49
 .7869694\,11.8203095
END:VEVENT
END:VCALENDAR
