BEGIN:VCALENDAR
VERSION:2.0
PRODID:-//91.233.84.75//NONSGML kigkonsult.se iCalcreator 2.24//
CALSCALE:GREGORIAN
METHOD:PUBLISH
X-WR-TIMEZONE:Europe/Berlin
BEGIN:VTIMEZONE
TZID:Europe/Berlin
X-LIC-LOCATION:Europe/Berlin
BEGIN:STANDARD
DTSTART:19701025T030000
TZOFFSETFROM:+0200
TZOFFSETTO:+0100
TZNAME:CET
END:STANDARD
BEGIN:DAYLIGHT
DTSTART:19700329T020000
TZOFFSETFROM:+0100
TZOFFSETTO:+0200
TZNAME:CEST
END:DAYLIGHT
END:VTIMEZONE
BEGIN:VEVENT
UID:20260421T164015CEST-914448675c@91.233.84.75
DTSTAMP:20260421T144015Z
DESCRIPTION:Dieses Konzert der Christian Benning Percussion Group widmet si
 ch Werken der christlichen und jüdischen Tradition sowie der arabischen Mu
 sik.\nIm Rahmen des 72. Festival junger Künstler Bayreuth
DTSTART:20220811T200000
DTEND:20220811T200000
GEO:+49.943155;+11.574541
LOCATION:Stadtkirche Heilig Dreifaltigkeit\, Kirchplatz 1\, 95444 Bayreuth\
 , Deutschland
SUMMARY:Transkulturelle Symphonie - Uraufführung
URL:https://www.youngartistsbayreuth.de/en/event/transkulturelle-symphonie-
 urauff%C3%BChrung-11-08-2022-20-00.html
X-APPLE-STRUCTURED-LOCATION;VALUE=URI;X-ADDRESS="Kirchplatz 1, Bayreuth, 95
 444, Deutschland";X-APPLE-RADIUS=100;X-TITLE=Transkulturelle Symphonie - U
 raufführung:GEO:49.9431552\,11.5745409
END:VEVENT
END:VCALENDAR
