BEGIN:VCALENDAR
VERSION:2.0
PRODID:-//91.233.84.75//NONSGML kigkonsult.se iCalcreator 2.24//
CALSCALE:GREGORIAN
METHOD:PUBLISH
X-WR-TIMEZONE:Europe/Berlin
BEGIN:VTIMEZONE
TZID:Europe/Berlin
X-LIC-LOCATION:Europe/Berlin
BEGIN:STANDARD
DTSTART:19701025T030000
TZOFFSETFROM:+0200
TZOFFSETTO:+0100
TZNAME:CET
END:STANDARD
BEGIN:DAYLIGHT
DTSTART:19700329T020000
TZOFFSETFROM:+0100
TZOFFSETTO:+0200
TZNAME:CEST
END:DAYLIGHT
END:VTIMEZONE
BEGIN:VEVENT
UID:20260421T161331CEST-220362a7bd@91.233.84.75
DTSTAMP:20260421T141331Z
DESCRIPTION:Festliches Konzert mit Werken von u. a. G. F. Händel\, G. Botte
 sini\, R. Wagner und A. Schönberg\nSolisten: Peter Schmidt\, Kontrabass\; 
 Brit-Tone Müllertz\, Sopran\; Michael Arlt\, Violine\nDirigent: Martin Wet
 tges
DTSTART:20210808T160000
DTEND:20210808T160000
GEO:+49.943155;+11.574541
LOCATION:Stadtkirche Heilig Dreifaltigkeit\, Kirchplatz 1\, 95444 Bayreuth\
 , Deutschland
SUMMARY:Traumbilder
URL:https://www.youngartistsbayreuth.de/de/veranstaltung/traumbilder-08-08-
 2021-16-00.html
X-APPLE-STRUCTURED-LOCATION;VALUE=URI;X-ADDRESS="Kirchplatz 1, Bayreuth, 95
 444, Deutschland";X-APPLE-RADIUS=100;X-TITLE=Traumbilder:GEO:49.9431552\,1
 1.5745409
END:VEVENT
END:VCALENDAR
