BEGIN:VCALENDAR
VERSION:2.0
PRODID:-//91.233.84.75//NONSGML kigkonsult.se iCalcreator 2.24//
CALSCALE:GREGORIAN
METHOD:PUBLISH
X-WR-TIMEZONE:Europe/Berlin
BEGIN:VTIMEZONE
TZID:Europe/Berlin
X-LIC-LOCATION:Europe/Berlin
BEGIN:STANDARD
DTSTART:19701025T030000
TZOFFSETFROM:+0200
TZOFFSETTO:+0100
TZNAME:CET
END:STANDARD
BEGIN:DAYLIGHT
DTSTART:19700329T020000
TZOFFSETFROM:+0100
TZOFFSETTO:+0200
TZNAME:CEST
END:DAYLIGHT
END:VTIMEZONE
BEGIN:VEVENT
UID:20260421T145255CEST-8717a48c24@91.233.84.75
DTSTAMP:20260421T125255Z
DESCRIPTION:Demonstriert werden neue Klangwelten elektrischer Streichinstru
 mente.Der Workshop erforscht und experimentiert mit den Unterschieden zwis
 chen elektrischen und akustischen Instrumenten.\nLeitung: Prof. Rudolf Hak
 en
DTSTART:20200803T160000
DTEND:20200803T160000
GEO:+49.94286;+11.5876
LOCATION:DAS ZENTRUM\, Äußere Badstraße 7a\, 95448 Bayreuth\, Deutschland
SUMMARY:Tutorial: Electric String Ensemble
URL:https://www.youngartistsbayreuth.de/de/veranstaltung/tutorial-electric-
 string-ensemble-03-08-2020-16-00.html
X-APPLE-STRUCTURED-LOCATION;VALUE=URI;X-ADDRESS="Äußere Badstraße 7a, Bayre
 uth, 95448, Deutschland";X-APPLE-RADIUS=100;X-TITLE="Tutorial: Electric St
 ring Ensemble":GEO:49.94286\,11.5876
END:VEVENT
END:VCALENDAR
