BEGIN:VCALENDAR
VERSION:2.0
PRODID:-//91.233.84.75//NONSGML kigkonsult.se iCalcreator 2.24//
CALSCALE:GREGORIAN
METHOD:PUBLISH
X-WR-TIMEZONE:Europe/Berlin
BEGIN:VTIMEZONE
TZID:Europe/Berlin
X-LIC-LOCATION:Europe/Berlin
BEGIN:STANDARD
DTSTART:19701025T030000
TZOFFSETFROM:+0200
TZOFFSETTO:+0100
TZNAME:CET
END:STANDARD
BEGIN:DAYLIGHT
DTSTART:19700329T020000
TZOFFSETFROM:+0100
TZOFFSETTO:+0200
TZNAME:CEST
END:DAYLIGHT
END:VTIMEZONE
BEGIN:VEVENT
UID:20260421T165043CEST-37072e9cbd@91.233.84.75
DTSTAMP:20260421T145043Z
DESCRIPTION:Musikalische Leitung: Prof. Rudolf Haken und Martin Schneider\n
 Solistin: Caroline Adler
DTSTART:20220808T193000
DTEND:20220808T193000
GEO:+49.944304;+11.577294
LOCATION:Kath. Schlosskirche Unsere Liebe Frau\, Schlossberglein 3\, 95444 
 Bayreuth\, Deutschland
SUMMARY:„Verleih uns Frieden gnädiglich …“ - Barocke Musiken alt und neu
URL:https://www.youngartistsbayreuth.de/en/event/verleih-uns-frieden-gn%C3%
 A4diglich-barocke-musiken-alt-und-08-08-2022-19-30.html
X-APPLE-STRUCTURED-LOCATION;VALUE=URI;X-ADDRESS="Schlossberglein 3, Bayreut
 h, 95444, Deutschland";X-APPLE-RADIUS=100;X-TITLE=„Verleih uns Frieden gnä
 diglich …“ - Barocke Musiken alt und neu:GEO:49.944304\,11.577294
END:VEVENT
END:VCALENDAR
