BEGIN:VCALENDAR
VERSION:2.0
PRODID:-//91.233.84.75//NONSGML kigkonsult.se iCalcreator 2.24//
CALSCALE:GREGORIAN
METHOD:PUBLISH
X-WR-TIMEZONE:Europe/Berlin
BEGIN:VTIMEZONE
TZID:Europe/Berlin
X-LIC-LOCATION:Europe/Berlin
BEGIN:STANDARD
DTSTART:19701025T030000
TZOFFSETFROM:+0200
TZOFFSETTO:+0100
TZNAME:CET
END:STANDARD
BEGIN:DAYLIGHT
DTSTART:19700329T020000
TZOFFSETFROM:+0100
TZOFFSETTO:+0200
TZNAME:CEST
END:DAYLIGHT
END:VTIMEZONE
BEGIN:VEVENT
UID:20260421T150527CEST-2765c3f2df@91.233.84.75
DTSTAMP:20260421T130527Z
DESCRIPTION:Camilla Nylund\, SopranOtto Sauter\, TrompeteMitglieder des Orc
 hesters der Bayreuther Festspiele\n \nEin außergewöhnliches Konzert zum 75
 . Jubiläum des Festivals junger Künstler Bayreuth\nIm Rahmen des 75-jährig
 en Jubiläums des Festivals junger Künstler Bayreuth begegnen sich ehemalig
 e Teilnehmer und Dozenten mit den jungen Talenten der aktuellen Generation
  auf der Bühne. Gemeinsam gestalten sie ein Konzert\, das Generationen ver
 bindet und musikalische Brücken schlägt.\nEin Höhepunkt des Abends ist die
  Uraufführung des Liederzyklus nach Gedichten des isländischen Wegbereiter
 s moderner Poesie\, Jóhann Jónsson\, für Sopran\, Trompete und Streichsext
 ett von Fredrik Schwenk.\nDas Programm wird ergänzt durch selten zu hörend
 e Meisterwerke aus unterschiedlichen Epochen\, die das Konzert zu einem be
 sonderen Erlebnis für Musikliebhaber machen.
DTSTART:20250812T190000
DTEND:20250812T190000
GEO:+49.954149;+11.592844
LOCATION:Ordenskirche St. Georgen\, St. Georgen 50\, 95448 Bayreuth\, Deuts
 chland
SUMMARY:'Versunkene Schätze' - Uraufführung und vergessene Meisterwerke
URL:https://www.youngartistsbayreuth.de/de/veranstaltung/versunkene-sch%C3%
 A4tze-urauff%C3%BChrung-und-vergessene-12-08-2025-19-00.html
X-APPLE-STRUCTURED-LOCATION;VALUE=URI;X-ADDRESS="St. Georgen 50, Bayreuth, 
 95448, Deutschland";X-APPLE-RADIUS=100;X-TITLE=Versunkene Schätze" - Urauf
 führung und vergessene Meisterwerke:GEO:49.9541493\,11.5928437
END:VEVENT
END:VCALENDAR
