BEGIN:VCALENDAR
VERSION:2.0
PRODID:-//91.233.84.75//NONSGML kigkonsult.se iCalcreator 2.24//
CALSCALE:GREGORIAN
METHOD:PUBLISH
X-WR-TIMEZONE:Europe/Berlin
BEGIN:VTIMEZONE
TZID:Europe/Berlin
X-LIC-LOCATION:Europe/Berlin
BEGIN:STANDARD
DTSTART:19701025T030000
TZOFFSETFROM:+0200
TZOFFSETTO:+0100
TZNAME:CET
END:STANDARD
BEGIN:DAYLIGHT
DTSTART:19700329T020000
TZOFFSETFROM:+0100
TZOFFSETTO:+0200
TZNAME:CEST
END:DAYLIGHT
END:VTIMEZONE
BEGIN:VEVENT
UID:20260421T150302CEST-649819f586@91.233.84.75
DTSTAMP:20260421T130302Z
DESCRIPTION:Konzert des Duo Gambelin.\nChristian Elin\, Sopransaxophon\, Ba
 ssklarinette\, KompositionAnna Zimre\, Viola Gamba\n \nZwei Instrumente\, 
 die sich vorher nie begegnet sind: Bassklarinette und Viola da Gamba. Zwei
  musikalische Stile\, zwischen denen 3 Jahrhunderte Musikgeschichte liegen
 : Renaissance- bzw. Barockmusik trifft auf Jazz und Moderne. Christian Eli
 n und Anna Zimre belassen es bei ihrer Begegnung nicht bei einer Gegenüber
 stellung dieser Stile\, in ihrer Musik entsteht etwas vollkommen Neues: Ei
 n Konzert wie ein Sog\, ein Eintauchen in eine Klangwelt\, die mit Stilen 
 nicht mehr ausreichend beschrieben werden kann. Vor allem die Kompositione
 n von Christian Elin – speziell für diese Besetzung entstanden – greifen a
 ll die erstaunlichen Ähnlichkeiten in der musikalischen Praxis von Barockm
 usik und Jazz auf: harmonische Modelle\, die Freiheit der Improvisation\, 
 Swing und Inégalité\, das Spiel mit Obertönen. Auf diese Weise erlebt das 
 Publikum auch die Musik der großen Gambenmeister der Renaissance- und Baro
 ckzeit vollkommen neu: ein Konzert wie ein Film\, der die Zeit vergessen l
 ässt.\nEs erklingen Werke von J. S. Bach\, Claudio Monteverdi\, Christian 
 Elin\, Diego Ortiz und Sieur de Sainte Colombe.
DTSTART:20250816T190000
DTEND:20250816T190000
GEO:+49.954149;+11.592844
LOCATION:Ordenskirche St. Georgen\, St. Georgen 50\, 95448 Bayreuth\, Deuts
 chland
SUMMARY:'Vivi Felice - Lebe glücklich!' - Ein Konzert wie ein Film
URL:https://www.youngartistsbayreuth.de/de/veranstaltung/vivi-felice-lebe-g
 l%C3%BCcklich-ein-konzert-wie-ein-film-16-08-2025-19-00.html
X-APPLE-STRUCTURED-LOCATION;VALUE=URI;X-ADDRESS="St. Georgen 50, Bayreuth, 
 95448, Deutschland";X-APPLE-RADIUS=100;X-TITLE=Vivi Felice - Lebe glücklic
 h!" - Ein Konzert wie ein Film:GEO:49.9541493\,11.5928437
END:VEVENT
END:VCALENDAR
