BEGIN:VCALENDAR
VERSION:2.0
PRODID:-//91.233.84.75//NONSGML kigkonsult.se iCalcreator 2.24//
CALSCALE:GREGORIAN
METHOD:PUBLISH
X-WR-TIMEZONE:Europe/Berlin
BEGIN:VTIMEZONE
TZID:Europe/Berlin
X-LIC-LOCATION:Europe/Berlin
BEGIN:STANDARD
DTSTART:19701025T030000
TZOFFSETFROM:+0200
TZOFFSETTO:+0100
TZNAME:CET
END:STANDARD
BEGIN:DAYLIGHT
DTSTART:19700329T020000
TZOFFSETFROM:+0100
TZOFFSETTO:+0200
TZNAME:CEST
END:DAYLIGHT
END:VTIMEZONE
BEGIN:VEVENT
UID:20260421T164042CEST-90377726bd@91.233.84.75
DTSTAMP:20260421T144042Z
DESCRIPTION:Sehr geehrte Damen und Herren\,\nKammersänger Michael Lion hatt
 e sich sehr darauf gefreut\, zusammen mit seiner Frau und Hans Martin Gräb
 ner das Herzensprojekt „Wagner for Everybody“ verwirklichen zu können.\nIn
  tiefer Trauer sind wir in Gedanken bei Familie Lion.\nWir danken für ihr 
 Verständnis.\n \n 
DTSTART:20250815T190000
DTEND:20250815T190000
GEO:+49.94286;+11.5876
LOCATION:DAS ZENTRUM\, Europasaal\, Äußere Badstraße 7a\, 95448 Bayreuth\, 
 Deutschland
SUMMARY:'Wagner for everybody'  Abgesagt !!! - doch nicht vergessen
URL:https://www.youngartistsbayreuth.de/en/event/wagner-for-everybody-abges
 agt-doch-nicht-vergessen-15-08-2025-19-00.html
X-APPLE-STRUCTURED-LOCATION;VALUE=URI;X-ADDRESS="Äußere Badstraße 7a, Bayre
 uth, 95448, Deutschland";X-APPLE-RADIUS=100;X-TITLE=Wagner for everybody" 
  Abgesagt !!! - doch nicht vergessen:GEO:49.94286\,11.5876
END:VEVENT
END:VCALENDAR
