BEGIN:VCALENDAR
VERSION:2.0
PRODID:-//91.233.84.75//NONSGML kigkonsult.se iCalcreator 2.24//
CALSCALE:GREGORIAN
METHOD:PUBLISH
X-WR-TIMEZONE:Europe/Berlin
BEGIN:VTIMEZONE
TZID:Europe/Berlin
X-LIC-LOCATION:Europe/Berlin
BEGIN:STANDARD
DTSTART:19701025T030000
TZOFFSETFROM:+0200
TZOFFSETTO:+0100
TZNAME:CET
END:STANDARD
BEGIN:DAYLIGHT
DTSTART:19700329T020000
TZOFFSETFROM:+0100
TZOFFSETTO:+0200
TZNAME:CEST
END:DAYLIGHT
END:VTIMEZONE
BEGIN:VEVENT
UID:20260421T150333CEST-4179c07bf6@91.233.84.75
DTSTAMP:20260421T130333Z
DESCRIPTION:Mit diesem Konzert will die Fityan Band den am 28.Februar 2022 
 durch einen tragischen Autounfall ums Leben gekommen Gitarristen und Kompo
 nisten Jörg Teichert ehren.Der gebürtige Heidelberger war ein unglaublich 
 vielseitiger Musiker und hat hunderte Kompositionen im Bereich Jazz\, Rock
 \, Blues und transkulturelle Musik hinterlassen. Dieses Erbe möchten wir m
 it der achtköpfigen transkulturellen Besetzung weiterführen. Wuchtige Jazz
 /Rock- Groove-Ästhetik verschmilzt mit den filigranen Klängen von Quanun\,
  Oud\, Baglama\, Stimme und Nay.\nMusikalische Leitung:Mohamad Fityan\, Na
 yJonathan Sell\, E-Bass und Kontrabass\nBesetzung:Mohamad Fityan - NayGoln
 ar Shahyar - GesangFadhel Boubaker - OudKenan Tülek - BaglamaJonathan Sell
  - BassMatthias Kurth - GitarreSalah Eddin Maraqa - QanunKonrad Wiemann - 
 Drums
DTSTART:20220813T190000
DTEND:20220813T190000
GEO:+49.967792;+11.611876
LOCATION:Panzerhalle\, Logistikpark 7a\, 95448 Bayreuth\, Deutschland
SUMMARY:Weltpremiere. Weltmusik Remembering
URL:https://www.youngartistsbayreuth.de/de/veranstaltung/weltpremiere-weltm
 usik-remembering-13-08-2022-19-00.html
X-APPLE-STRUCTURED-LOCATION;VALUE=URI;X-ADDRESS="Logistikpark 7a, Bayreuth,
  95448, Deutschland";X-APPLE-RADIUS=100;X-TITLE=Weltpremiere. Weltmusik Re
 membering:GEO:49.967792\,11.611876
END:VEVENT
END:VCALENDAR
