BEGIN:VCALENDAR
VERSION:2.0
PRODID:-//91.233.84.75//NONSGML kigkonsult.se iCalcreator 2.24//
CALSCALE:GREGORIAN
METHOD:PUBLISH
X-WR-TIMEZONE:Europe/Berlin
BEGIN:VTIMEZONE
TZID:Europe/Berlin
X-LIC-LOCATION:Europe/Berlin
BEGIN:STANDARD
DTSTART:19701025T030000
TZOFFSETFROM:+0200
TZOFFSETTO:+0100
TZNAME:CET
END:STANDARD
BEGIN:DAYLIGHT
DTSTART:19700329T020000
TZOFFSETFROM:+0100
TZOFFSETTO:+0200
TZNAME:CEST
END:DAYLIGHT
END:VTIMEZONE
BEGIN:VEVENT
UID:20260421T164021CEST-017123391e@91.233.84.75
DTSTAMP:20260421T144021Z
DESCRIPTION:Musikreise durch den Orient\nAuf einer musikalischen Reise von 
 Tunis\, über Amman und Damaskus bis zu Teheran kehrt die Fityan Band zu de
 n Wurzeln der arabischen\, türkischen und persischen Musikkulturen zurück.
 Klassische und traditionelle Musik aus diesen Kulturen wird mit einer Bese
 tzung aus Gesang\, Qanun\, Nay\, Oud\, Baglama und Jazz-Rhythm-Section neu
  arrangiert.\nMusikalische Leitung:Mohamad Fityan\, NayJonathan Sell\, E-B
 ass und Kontrabass\nBesetzung:Mohamad Fityan - NayFadhel Boubaker - OudKen
 an Tülek - BaglamaJonathan Sell - BassMatthias Kurth - GitarreSalah Eddin 
 Maraqa - QanunKonrad Wiemann - Drums & Percussion\nBei Schlechtwetter:Klos
 terkirche Maria Immaculata
DTSTART:20220814T160000
DTEND:20220814T160000
GEO:+49.786969;+11.82031
LOCATION:Innenhof der Abtei &#40\;Open Air&#41\;\, Kloster\, 92676 Speinsha
 rt\, Deutschland
SUMMARY:Weltpremiere. Weltmusik - Von Tunis nach Teheran
URL:https://www.youngartistsbayreuth.de/en/event/weltpremiere-weltmusik-von
 -tunis-nach-teheran-14-08-2022-16-00.html
X-APPLE-STRUCTURED-LOCATION;VALUE=URI;X-ADDRESS="Kloster, Speinshart, 92676
 , Deutschland";X-APPLE-RADIUS=100;X-TITLE=Weltpremiere. Weltmusik - Von Tu
 nis nach Teheran:GEO:49.7869694\,11.8203095
END:VEVENT
END:VCALENDAR
