BEGIN:VCALENDAR
VERSION:2.0
PRODID:-//91.233.84.75//NONSGML kigkonsult.se iCalcreator 2.24//
CALSCALE:GREGORIAN
METHOD:PUBLISH
X-WR-TIMEZONE:Europe/Berlin
BEGIN:VTIMEZONE
TZID:Europe/Berlin
X-LIC-LOCATION:Europe/Berlin
BEGIN:STANDARD
DTSTART:19701025T030000
TZOFFSETFROM:+0200
TZOFFSETTO:+0100
TZNAME:CET
END:STANDARD
BEGIN:DAYLIGHT
DTSTART:19700329T020000
TZOFFSETFROM:+0100
TZOFFSETTO:+0200
TZNAME:CEST
END:DAYLIGHT
END:VTIMEZONE
BEGIN:VEVENT
UID:20260421T164042CEST-3012eef826@91.233.84.75
DTSTAMP:20260421T144042Z
DESCRIPTION:Musikalisches Schauspiel mit a cappella-Gesang\nTheaterensemble
  und Sänger:innen des 72. Festival junger Künstler Bayreuth\nRegie: Maximi
 lian Ponader
DTSTART:20220807T180000
DTEND:20220807T180000
GEO:+50.06432;+11.588753
LOCATION:Baille-Maille-Allee\, Baille-Maille-Allee\, 95502 Himmelkron\, Deu
 tschland
SUMMARY:Welttheater! Ein Sommernachtstraum nach William Shakespeare
URL:https://www.youngartistsbayreuth.de/en/event/welttheater-ein-sommernach
 tstraum-nach-william-shakespeare-07-08-2022-17-00.html
X-APPLE-STRUCTURED-LOCATION;VALUE=URI;X-ADDRESS="Baille-Maille-Allee, Himme
 lkron, 95502, Deutschland";X-APPLE-RADIUS=100;X-TITLE=Welttheater! Ein Som
 mernachtstraum nach William Shakespeare:GEO:50.0643195\,11.5887527
END:VEVENT
END:VCALENDAR
