BEGIN:VCALENDAR
VERSION:2.0
PRODID:-//91.233.84.75//NONSGML kigkonsult.se iCalcreator 2.24//
CALSCALE:GREGORIAN
METHOD:PUBLISH
X-WR-TIMEZONE:Europe/Berlin
BEGIN:VTIMEZONE
TZID:Europe/Berlin
X-LIC-LOCATION:Europe/Berlin
BEGIN:STANDARD
DTSTART:19701025T030000
TZOFFSETFROM:+0200
TZOFFSETTO:+0100
TZNAME:CET
END:STANDARD
BEGIN:DAYLIGHT
DTSTART:19700329T020000
TZOFFSETFROM:+0100
TZOFFSETTO:+0200
TZNAME:CEST
END:DAYLIGHT
END:VTIMEZONE
BEGIN:VEVENT
UID:20260421T164042CEST-197338996b@91.233.84.75
DTSTAMP:20260421T144042Z
DESCRIPTION:Musikalisches Schauspiel mit a cappella-Gesang\nTheaterensemble
  und Sänger:innen des 72. Festival junger Künstler Bayreuth\nRegie: Maximi
 lian Ponader\nKeine Ausweichmöglichkeit – bei Schlechtwetter fällt die Ver
 anstaltung aus
DTSTART:20220810T190000
DTEND:20220810T190000
GEO:+49.995559;+11.779224
LOCATION:Kurpark\, Bahnhofstraße 422\, 95485 Warmensteinach\, Deutschland
SUMMARY:Welttheater! Ein Sommernachtstraum nach William Shakespeare
URL:https://www.youngartistsbayreuth.de/en/event/welttheater-ein-sommernach
 tstraum-nach-william-shakespeare-10-08-2022-19-00.html
X-APPLE-STRUCTURED-LOCATION;VALUE=URI;X-ADDRESS="Bahnhofstraße 422, Warmens
 teinach, 95485, Deutschland";X-APPLE-RADIUS=100;X-TITLE=Welttheater! Ein S
 ommernachtstraum nach William Shakespeare:GEO:49.995559\,11.779224
END:VEVENT
END:VCALENDAR
