BEGIN:VCALENDAR
VERSION:2.0
PRODID:-//91.233.84.75//NONSGML kigkonsult.se iCalcreator 2.24//
CALSCALE:GREGORIAN
METHOD:PUBLISH
X-WR-TIMEZONE:Europe/Berlin
BEGIN:VTIMEZONE
TZID:Europe/Berlin
X-LIC-LOCATION:Europe/Berlin
BEGIN:STANDARD
DTSTART:19701025T030000
TZOFFSETFROM:+0200
TZOFFSETTO:+0100
TZNAME:CET
END:STANDARD
BEGIN:DAYLIGHT
DTSTART:19700329T020000
TZOFFSETFROM:+0100
TZOFFSETTO:+0200
TZNAME:CEST
END:DAYLIGHT
END:VTIMEZONE
BEGIN:VEVENT
UID:20260421T150154CEST-5882260c08@91.233.84.75
DTSTAMP:20260421T130154Z
DESCRIPTION:Musikalisches Schauspiel mit a cappella-Gesang\nTheaterensemble
  und Sänger:innen des 72. Festival junger Künstler Bayreuth\nRegie: Maximi
 lian Ponader\nEintritt frei – um Spenden wird gebeten
DTSTART:20220811T170000
DTEND:20220811T170000
GEO:+49.938704;+11.58202
LOCATION:Große Wiese am Ostende des Hofgartens\, Ludwigstraße 21\, 95444 Ba
 yreuth\, Deutschland
SUMMARY:Welttheater! Ein Sommernachtstraum nach William Shakespeare
URL:https://www.youngartistsbayreuth.de/de/veranstaltung/welttheater-ein-so
 mmernachtstraum-nach-william-shakespeare-11-08-2022-17-00.html
X-APPLE-STRUCTURED-LOCATION;VALUE=URI;X-ADDRESS="Ludwigstraße 21, Bayreuth,
  95444, Deutschland";X-APPLE-RADIUS=100;X-TITLE=Welttheater! Ein Sommernac
 htstraum nach William Shakespeare:GEO:49.938704\,11.582020
END:VEVENT
END:VCALENDAR
