BEGIN:VCALENDAR
VERSION:2.0
PRODID:-//91.233.84.75//NONSGML kigkonsult.se iCalcreator 2.24//
CALSCALE:GREGORIAN
METHOD:PUBLISH
X-WR-TIMEZONE:Europe/Berlin
BEGIN:VTIMEZONE
TZID:Europe/Berlin
X-LIC-LOCATION:Europe/Berlin
BEGIN:STANDARD
DTSTART:19701025T030000
TZOFFSETFROM:+0200
TZOFFSETTO:+0100
TZNAME:CET
END:STANDARD
BEGIN:DAYLIGHT
DTSTART:19700329T020000
TZOFFSETFROM:+0100
TZOFFSETTO:+0200
TZNAME:CEST
END:DAYLIGHT
END:VTIMEZONE
BEGIN:VEVENT
UID:20260421T161915CEST-8520738e8f@91.233.84.75
DTSTAMP:20260421T141915Z
DESCRIPTION:Das festliche Sommerkonzert bietet virtuose barocke Musiken und
  Werke ukrainischer Komponisten.\nDas Dudalis-Quintett im Rahmen des 72. F
 estival junger Künstler Bayreuth\nMusikalische Leitung: Prof. Bozhena Korc
 hynska
DTSTART:20220814T170000
DTEND:20220814T170000
GEO:+49.883933;+11.445052
LOCATION:Katholische Kirche St. Bonifatius\, Forststraße 9\, 95496 Glashütt
 en\, Deutschland
SUMMARY:„Wenn Engel zuhören…“
URL:https://www.youngartistsbayreuth.de/de/veranstaltung/wenn-engel-zuh%C3%
 B6ren-14-08-2022-17-00.html
X-APPLE-STRUCTURED-LOCATION;VALUE=URI;X-ADDRESS="Forststraße 9, Glashütten,
  95496, Deutschland";X-APPLE-RADIUS=100;X-TITLE=„Wenn Engel zuhören…“:GEO:
 49.8839334\,11.4450517
END:VEVENT
END:VCALENDAR
