BEGIN:VCALENDAR
VERSION:2.0
PRODID:-//91.233.84.75//NONSGML kigkonsult.se iCalcreator 2.24//
CALSCALE:GREGORIAN
METHOD:PUBLISH
X-WR-TIMEZONE:Europe/Berlin
BEGIN:VTIMEZONE
TZID:Europe/Berlin
X-LIC-LOCATION:Europe/Berlin
BEGIN:STANDARD
DTSTART:19701025T030000
TZOFFSETFROM:+0200
TZOFFSETTO:+0100
TZNAME:CET
END:STANDARD
BEGIN:DAYLIGHT
DTSTART:19700329T020000
TZOFFSETFROM:+0100
TZOFFSETTO:+0200
TZNAME:CEST
END:DAYLIGHT
END:VTIMEZONE
BEGIN:VEVENT
UID:20260421T162758CEST-2910fe007a@91.233.84.75
DTSTAMP:20260421T142758Z
DESCRIPTION:Das festliche Sommerkonzert bietet virtuose barocke Musiken und
  Werke ukrainischer Komponisten.\nDas Dudalis-Quintett im Rahmen des 72. F
 estival junger Künstler Bayreuth\nMusikalische Leitung: Prof. Bozhena Korc
 hynska
DTSTART:20220820T200000
DTEND:20220820T200000
GEO:+49.977789;+11.854815
LOCATION:Katholische Pfarrkirche St. Johannes\, Neugrüner Straße 8\, 95694 
 Mehlmeisel\, Deutschland
SUMMARY:„Wenn Engel zuhören…“
URL:https://www.youngartistsbayreuth.de/en/event/wenn-engel-zuh%C3%B6ren-20
 -08-2022-20-00.html
X-APPLE-STRUCTURED-LOCATION;VALUE=URI;X-ADDRESS="Neugrüner Straße 8, Mehlme
 isel, 95694, Deutschland";X-APPLE-RADIUS=100;X-TITLE=„Wenn Engel zuhören…“
 :GEO:49.977789\,11.8548152
END:VEVENT
END:VCALENDAR
