BEGIN:VCALENDAR
VERSION:2.0
PRODID:-//91.233.84.75//NONSGML kigkonsult.se iCalcreator 2.24//
CALSCALE:GREGORIAN
METHOD:PUBLISH
X-WR-TIMEZONE:Europe/Berlin
BEGIN:VTIMEZONE
TZID:Europe/Berlin
X-LIC-LOCATION:Europe/Berlin
BEGIN:STANDARD
DTSTART:19701025T030000
TZOFFSETFROM:+0200
TZOFFSETTO:+0100
TZNAME:CET
END:STANDARD
BEGIN:DAYLIGHT
DTSTART:19700329T020000
TZOFFSETFROM:+0100
TZOFFSETTO:+0200
TZNAME:CEST
END:DAYLIGHT
END:VTIMEZONE
BEGIN:VEVENT
UID:20260421T165120CEST-040788bef4@91.233.84.75
DTSTAMP:20260421T145120Z
DESCRIPTION:Das festliche Sommerkonzert bietet virtuose barocke Musiken und
  Werke ukrainischer Komponisten.\nDas Dudalis-Quintett im Rahmen des 72. F
 estival junger Künstler Bayreuth\nMusikalische Leitung: Prof. Bozhena Korc
 hynska
DTSTART:20220817T190000
DTEND:20220817T190000
GEO:+49.924476;+11.599503
LOCATION:Restaurant „Zur Sudpfanne“\, Oberkonnersreuther Straße 6\, 95448 B
 ayreuth\, Deutschland
SUMMARY:„Wenn Engel zuhören…“ - Benefizkonzert für das Albert-Schweitzer-Ho
 spiz
URL:https://www.youngartistsbayreuth.de/en/event/wenn-engel-zuh%C3%B6ren-be
 nefizkonzert-f%C3%BCr-das-17-08-2022-19-00.html
X-APPLE-STRUCTURED-LOCATION;VALUE=URI;X-ADDRESS="Oberkonnersreuther Straße 
 6, Bayreuth, 95448, Deutschland";X-APPLE-RADIUS=100;X-TITLE=„Wenn Engel zu
 hören…“ - Benefizkonzert für das Albert-Schweitzer-Hospiz:GEO:49.9244762\,
 11.5995026
END:VEVENT
END:VCALENDAR
