BEGIN:VCALENDAR
VERSION:2.0
PRODID:-//91.233.84.75//NONSGML kigkonsult.se iCalcreator 2.24//
CALSCALE:GREGORIAN
METHOD:PUBLISH
X-WR-TIMEZONE:Europe/Berlin
BEGIN:VTIMEZONE
TZID:Europe/Berlin
X-LIC-LOCATION:Europe/Berlin
BEGIN:STANDARD
DTSTART:19701025T030000
TZOFFSETFROM:+0200
TZOFFSETTO:+0100
TZNAME:CET
END:STANDARD
BEGIN:DAYLIGHT
DTSTART:19700329T020000
TZOFFSETFROM:+0100
TZOFFSETTO:+0200
TZNAME:CEST
END:DAYLIGHT
END:VTIMEZONE
BEGIN:VEVENT
UID:20260421T164757CEST-6721f3487f@91.233.84.75
DTSTAMP:20260421T144757Z
DESCRIPTION:Dr. Frank Piontek\, Kulturpublizist\, berichtet über seine Bege
 gnung mit dem Ring-Regisseur Valentin Schwarz:Wie ist seine Herangehenswei
 se an das überaus komplexe Format Oper? In der Praxis\, in der Theorie?\nE
 ine Gesprächsrunde für und mit den jungen „Stepping Stoneler:innen“
DTSTART:20230802T110000
DTEND:20230802T110000
GEO:+49.94286;+11.5876
LOCATION:DAS ZENTRUM\, Kultursalon\, Äußere Badstraße 7a\, 95448 Bayreuth\,
  Deutschland
SUMMARY:Werkstattgespräch!
URL:https://www.youngartistsbayreuth.de/en/event/werkstattgespr%C3%A4ch-02-
 08-2023-11-00.html
X-APPLE-STRUCTURED-LOCATION;VALUE=URI;X-ADDRESS="Äußere Badstraße 7a, Bayre
 uth, 95448, Deutschland";X-APPLE-RADIUS=100;X-TITLE=Werkstattgespräch!:GEO
 :49.94286\,11.5876
END:VEVENT
END:VCALENDAR
