BEGIN:VCALENDAR
VERSION:2.0
PRODID:-//91.233.84.75//NONSGML kigkonsult.se iCalcreator 2.24//
CALSCALE:GREGORIAN
METHOD:PUBLISH
X-WR-TIMEZONE:Europe/Berlin
BEGIN:VTIMEZONE
TZID:Europe/Berlin
X-LIC-LOCATION:Europe/Berlin
BEGIN:STANDARD
DTSTART:19701025T030000
TZOFFSETFROM:+0200
TZOFFSETTO:+0100
TZNAME:CET
END:STANDARD
BEGIN:DAYLIGHT
DTSTART:19700329T020000
TZOFFSETFROM:+0100
TZOFFSETTO:+0200
TZNAME:CEST
END:DAYLIGHT
END:VTIMEZONE
BEGIN:VEVENT
UID:20260421T150526CEST-5863021929@91.233.84.75
DTSTAMP:20260421T130526Z
DESCRIPTION:mit Fanny Steingraeber
DTSTART:20240813T103000
DTEND:20240813T103000
GEO:+49.94234;+11.573768
LOCATION:Steingraeber Haus\, Friedrichstraße 2\, 95445 Bayreuth\, Deutschla
 nd
SUMMARY:Werkstattgespräch: Alte Handwerkskunst für neue Musiken - Die Klavi
 ermanufaktur Steingraeber
URL:https://www.youngartistsbayreuth.de/de/veranstaltung/werkstattgespr%C3%
 A4ch-alte-handwerkskunst-f%C3%BCr-neue-musiken-13-08-2024-10-30.html
X-APPLE-STRUCTURED-LOCATION;VALUE=URI;X-ADDRESS="Friedrichstraße 2, Bayreut
 h, 95445, Deutschland";X-APPLE-RADIUS=100;X-TITLE="Werkstattgespräch: Alte
  Handwerkskunst für neue Musiken - Die Klaviermanufaktur Steingraeber":GEO
 :49.9423403\,11.5737679
END:VEVENT
END:VCALENDAR
