BEGIN:VCALENDAR
VERSION:2.0
PRODID:-//91.233.84.75//NONSGML kigkonsult.se iCalcreator 2.24//
CALSCALE:GREGORIAN
METHOD:PUBLISH
X-WR-TIMEZONE:Europe/Berlin
BEGIN:VTIMEZONE
TZID:Europe/Berlin
X-LIC-LOCATION:Europe/Berlin
BEGIN:STANDARD
DTSTART:19701025T030000
TZOFFSETFROM:+0200
TZOFFSETTO:+0100
TZNAME:CET
END:STANDARD
BEGIN:DAYLIGHT
DTSTART:19700329T020000
TZOFFSETFROM:+0100
TZOFFSETTO:+0200
TZNAME:CEST
END:DAYLIGHT
END:VTIMEZONE
BEGIN:VEVENT
UID:20260421T165125CEST-8191aeb617@91.233.84.75
DTSTAMP:20260421T145125Z
DESCRIPTION:mit Dr. Thomas Rösch\, Direktor des Carl Orff-Zentrums München
DTSTART:20240812T130000
DTEND:20240812T130000
GEO:+49.94286;+11.5876
LOCATION:DAS ZENTRUM\, Kultursalon\, Äußere Badstraße 7a\, 95448 Bayreuth\,
  Deutschland
SUMMARY:Werkstattgespräch: Künstler und Komponisten in totalitären Diktatur
 en am Fallbeispiel Carl Orff
URL:https://www.youngartistsbayreuth.de/en/event/werkstattgespr%C3%A4ch-k%C
 3%BCnstler-und-komponisten-in-totalit%C3%A4ren-12-08-2024-13-00.html
X-APPLE-STRUCTURED-LOCATION;VALUE=URI;X-ADDRESS="Äußere Badstraße 7a, Bayre
 uth, 95448, Deutschland";X-APPLE-RADIUS=100;X-TITLE="Werkstattgespräch: Kü
 nstler und Komponisten in totalitären Diktaturen am Fallbeispiel Carl Orff
 ":GEO:49.94286\,11.5876
END:VEVENT
END:VCALENDAR
