BEGIN:VCALENDAR
VERSION:2.0
PRODID:-//91.233.84.75//NONSGML kigkonsult.se iCalcreator 2.24//
CALSCALE:GREGORIAN
METHOD:PUBLISH
X-WR-TIMEZONE:Europe/Berlin
BEGIN:VTIMEZONE
TZID:Europe/Berlin
X-LIC-LOCATION:Europe/Berlin
BEGIN:STANDARD
DTSTART:19701025T030000
TZOFFSETFROM:+0200
TZOFFSETTO:+0100
TZNAME:CET
END:STANDARD
BEGIN:DAYLIGHT
DTSTART:19700329T020000
TZOFFSETFROM:+0100
TZOFFSETTO:+0200
TZNAME:CEST
END:DAYLIGHT
END:VTIMEZONE
BEGIN:VEVENT
UID:20260421T163745CEST-29021e0be6@91.233.84.75
DTSTAMP:20260421T143745Z
DESCRIPTION:Achtung neue Location: Stadtkirche Bayreuth\nDas Percussion-Ens
 emble des 75. Festival junger Künstler Bayreuth unter der Leitung von Prof
 . Cornelia Monske entfacht ein virtuoses Schlagzeuggewitter und zieht dabe
 i alle Register unterschiedlichster Kombinationen von Schlaginstrumenten a
 us mehreren Kulturen. Im ersten Teil gelangt eine aktuelle Komposition zum
  Thema „Die sieben letzten Worte unseres Erlösers am Kreuz“ zur Aufführung
 .\nEin Konzert des 75. Festival junger Künstler Bayreuth.
DTSTART:20250814T190000
DTEND:20250814T190000
GEO:+49.943155;+11.574541
LOCATION:Stadtkirche Heilig Dreifaltigkeit\, Kirchplatz 1\, 95444 Bayreuth\
 , Deutschland
SUMMARY:„Wie der Donner deiner Stimme …“
URL:https://www.youngartistsbayreuth.de/en/event/wie-der-donner-deiner-stim
 me-14-08-2025-19-00.html
X-APPLE-STRUCTURED-LOCATION;VALUE=URI;X-ADDRESS="Kirchplatz 1, Bayreuth, 95
 444, Deutschland";X-APPLE-RADIUS=100;X-TITLE=„Wie der Donner deiner Stimme
  …“:GEO:49.9431552\,11.5745409
END:VEVENT
END:VCALENDAR
