BEGIN:VCALENDAR
VERSION:2.0
PRODID:-//91.233.84.75//NONSGML kigkonsult.se iCalcreator 2.24//
CALSCALE:GREGORIAN
METHOD:PUBLISH
X-WR-TIMEZONE:Europe/Berlin
BEGIN:VTIMEZONE
TZID:Europe/Berlin
X-LIC-LOCATION:Europe/Berlin
BEGIN:STANDARD
DTSTART:19701025T030000
TZOFFSETFROM:+0200
TZOFFSETTO:+0100
TZNAME:CET
END:STANDARD
BEGIN:DAYLIGHT
DTSTART:19700329T020000
TZOFFSETFROM:+0100
TZOFFSETTO:+0200
TZNAME:CEST
END:DAYLIGHT
END:VTIMEZONE
BEGIN:VEVENT
UID:20260421T163745CEST-1913c3283a@91.233.84.75
DTSTAMP:20260421T143745Z
DESCRIPTION:Das Percussion-Ensemble des 75. Festival junger Künstler Bayreu
 th unter der Leitung von Prof. Cornelia Monske entfacht ein virtuoses Schl
 agzeuggewitter und zieht dabei alle Register unterschiedlichster Kombinati
 onen von Schlaginstrumenten aus mehreren Kulturen. Im ersten Teil gelangt 
 eine aktuelle Komposition zum Thema „Die sieben letzten Worte unseres Erlö
 sers am Kreuz“ zur Aufführung.\nEin Konzert des 75. Festival junger Künstl
 er Bayreuth.
DTSTART:20250816T190000
DTEND:20250816T190000
GEO:+49.786969;+11.82031
LOCATION:Klosterkirche Maria Immaculata\, Klosterhof\, 92676 Speinshart\, D
 eutschland
SUMMARY:„Wie der Donner deiner Stimme …“
URL:https://www.youngartistsbayreuth.de/en/event/wie-der-donner-deiner-stim
 me-16-08-2025-19-00.html
X-APPLE-STRUCTURED-LOCATION;VALUE=URI;X-ADDRESS="Klosterhof, Speinshart, 92
 676, Deutschland";X-APPLE-RADIUS=100;X-TITLE=„Wie der Donner deiner Stimme
  …“:GEO:49.7869694\,11.8203095
END:VEVENT
END:VCALENDAR
