BEGIN:VCALENDAR
VERSION:2.0
PRODID:-//91.233.84.75//NONSGML kigkonsult.se iCalcreator 2.24//
CALSCALE:GREGORIAN
METHOD:PUBLISH
X-WR-TIMEZONE:Europe/Berlin
BEGIN:VTIMEZONE
TZID:Europe/Berlin
X-LIC-LOCATION:Europe/Berlin
BEGIN:STANDARD
DTSTART:19701025T030000
TZOFFSETFROM:+0200
TZOFFSETTO:+0100
TZNAME:CET
END:STANDARD
BEGIN:DAYLIGHT
DTSTART:19700329T020000
TZOFFSETFROM:+0100
TZOFFSETTO:+0200
TZNAME:CEST
END:DAYLIGHT
END:VTIMEZONE
BEGIN:VEVENT
UID:20260421T150528CEST-36726fe1aa@91.233.84.75
DTSTAMP:20260421T130528Z
DESCRIPTION:Der Pianist Igor Levit gehört zu den gefragtesten Musikern unse
 rer Zeit – und da er auch politisch immer wieder Stellung bezieht\, auch z
 u den präsentesten. Das Beethoven-Jahr 2020 hätte ein Höhepunkt seiner Kar
 riere werden können. Das wurde es auch – aber ganz anders als geplant: Wei
 l Konzerte vor Publikum nicht möglich waren\, spielte Levit aus seinem Woh
 nzimmer für zehntausende Zuhörer fast auf der ganzen Welt. Doch diese Zeit
  ging nicht spurlos an ihm vorbei.\nDer ZEIT-Journalist Florian Zinnecker\
 , geboren in Bayreuth\, begleitete Levit durch die Konzertsaison 2019/20 u
 nd schrieb darüber mit ihm das Buch „Hauskonzert“. Eine ungewöhnliche Biog
 rafie eines außergewöhnlichen Künstlers\, die zehn Wochen lang auf der Spi
 egel-Bestsellerliste stand.\n \nIm Steingraeber-Kammermusiksaal liest Flor
 ian Zinnecker aus dem Buch und erzählt die turbulente Geschichte von desse
 n Entstehung. Moderation: Sissy Thammer\, Intendantin des Festivals junger
  Künstler
DTSTART:20210804T130000
DTEND:20210804T130000
GEO:+49.94234;+11.573768
LOCATION:Steingraeber Haus\, Kammermusiksaal\, Friedrichstraße 2\, 95445 Ba
 yreuth\, Deutschland
SUMMARY:Wie klingt ein Leben? Wie komponiert man ein Buch? Florian Zinnecke
 r über seine Igor-Levit-Biografie „Hauskonzert“
URL:https://www.youngartistsbayreuth.de/de/veranstaltung/wie-klingt-ein-leb
 en-wie-komponiert-man-ein-buch-florian-04-08-2021-13-00.html
X-APPLE-STRUCTURED-LOCATION;VALUE=URI;X-ADDRESS="Friedrichstraße 2, Bayreut
 h, 95445, Deutschland";X-APPLE-RADIUS=100;X-TITLE=Wie klingt ein Leben? Wi
 e komponiert man ein Buch? Florian Zinnecker über seine Igor-Levit-Biograf
 ie „Hauskonzert“:GEO:49.9423403\,11.5737679
END:VEVENT
END:VCALENDAR
