BEGIN:VCALENDAR
VERSION:2.0
PRODID:-//91.233.84.75//NONSGML kigkonsult.se iCalcreator 2.24//
CALSCALE:GREGORIAN
METHOD:PUBLISH
X-WR-TIMEZONE:Europe/Berlin
BEGIN:VTIMEZONE
TZID:Europe/Berlin
X-LIC-LOCATION:Europe/Berlin
BEGIN:STANDARD
DTSTART:19701025T030000
TZOFFSETFROM:+0200
TZOFFSETTO:+0100
TZNAME:CET
END:STANDARD
BEGIN:DAYLIGHT
DTSTART:19700329T020000
TZOFFSETFROM:+0100
TZOFFSETTO:+0200
TZNAME:CEST
END:DAYLIGHT
END:VTIMEZONE
BEGIN:VEVENT
UID:20260421T163745CEST-59633e41d5@91.233.84.75
DTSTAMP:20260421T143745Z
DESCRIPTION:Konzerte für zwei Klaviere und Orchester mit Werken von W. A. M
 ozart\, I. Andrić\, C. Nurymov\nKlavierduo VooDoo: Vuk Božilović und Dušan
  Grozdanović\nKammerorchester Turkmenistan im Rahmen des 73. Festival jung
 er Künstler Bayreuth\nMusikalische Leitung: Razul Klychev
DTSTART:20230806T170000
DTEND:20230806T170000
GEO:+49.94286;+11.5876
LOCATION:DAS ZENTRUM\, Europasaal\, Äußere Badstraße 7a\, 95448 Bayreuth\, 
 Deutschland
SUMMARY:Wien. Belgrad. Aschgabat.
URL:https://www.youngartistsbayreuth.de/en/event/wien-belgrad-aschgabat-06-
 08-2023-17-00.html
X-APPLE-STRUCTURED-LOCATION;VALUE=URI;X-ADDRESS="Äußere Badstraße 7a, Bayre
 uth, 95448, Deutschland";X-APPLE-RADIUS=100;X-TITLE=Wien. Belgrad. Aschgab
 at.:GEO:49.94286\,11.5876
END:VEVENT
END:VCALENDAR
