BEGIN:VCALENDAR
VERSION:2.0
PRODID:-//91.233.84.75//NONSGML kigkonsult.se iCalcreator 2.24//
CALSCALE:GREGORIAN
METHOD:PUBLISH
X-WR-TIMEZONE:Europe/Berlin
BEGIN:VTIMEZONE
TZID:Europe/Berlin
X-LIC-LOCATION:Europe/Berlin
BEGIN:STANDARD
DTSTART:19701025T030000
TZOFFSETFROM:+0200
TZOFFSETTO:+0100
TZNAME:CET
END:STANDARD
BEGIN:DAYLIGHT
DTSTART:19700329T020000
TZOFFSETFROM:+0100
TZOFFSETTO:+0200
TZNAME:CEST
END:DAYLIGHT
END:VTIMEZONE
BEGIN:VEVENT
UID:20260421T162727CEST-683154e17b@91.233.84.75
DTSTAMP:20260421T142727Z
DESCRIPTION:Eigenkompositionen und die Welturaufführung von John Coltranes 
 spirituellem Werk „A Love Supreme“\nModern String Quartet: Joerg Widmoser\
 , Violine\; Winfried Zrenner\, Violine\; Andreas Hoericht\, Viola\; Thomas
  Wollenweber\, Cello& Haz'Art Trio: Fadhel Boubaker\, Oud\; Jonathan Sell\
 , Bass\; Paul-Jakob Dinkelacker\, Drums & Perkussion
DTSTART:20200806T190000
DTEND:20200806T190000
GEO:+49.94286;+11.5876
LOCATION:DAS ZENTRUM und im Livestream\, Äußere Badstraße 7a\, 95448 Bayreu
 th\, Deutschland
SUMMARY:World Jazz: A Love Supreme
URL:https://www.youngartistsbayreuth.de/en/event/world-jazz-a-love-supreme-
 06-08-2020-19-00.html
X-APPLE-STRUCTURED-LOCATION;VALUE=URI;X-ADDRESS="Äußere Badstraße 7a, Bayre
 uth, 95448, Deutschland";X-APPLE-RADIUS=100;X-TITLE="World Jazz: A Love Su
 preme":GEO:49.94286\,11.5876
END:VEVENT
END:VCALENDAR
