BEGIN:VCALENDAR
VERSION:2.0
PRODID:-//91.233.84.75//NONSGML kigkonsult.se iCalcreator 2.24//
CALSCALE:GREGORIAN
METHOD:PUBLISH
X-WR-TIMEZONE:Europe/Berlin
BEGIN:VTIMEZONE
TZID:Europe/Berlin
X-LIC-LOCATION:Europe/Berlin
BEGIN:STANDARD
DTSTART:19701025T030000
TZOFFSETFROM:+0200
TZOFFSETTO:+0100
TZNAME:CET
END:STANDARD
BEGIN:DAYLIGHT
DTSTART:19700329T020000
TZOFFSETFROM:+0100
TZOFFSETTO:+0200
TZNAME:CEST
END:DAYLIGHT
END:VTIMEZONE
BEGIN:VEVENT
UID:20260421T162727CEST-062427d58e@91.233.84.75
DTSTAMP:20260421T142727Z
DESCRIPTION:Mit der Hamburger Percussion-Group des 72. Festival junger Küns
 tler Bayreuth\nMusikalische Leitung und Moderation: Prof. Cornelia Monske
DTSTART:20220814T170000
DTEND:20220814T170000
GEO:+50.00275;+12.08733
LOCATION:Stadthalle\, Bauerstraße 10\, 95615 Marktredwitz\, Deutschland
SUMMARY:Xenakis Pur – Percussion vom Feinsten
URL:https://www.youngartistsbayreuth.de/en/event/xenakis-pur-percussion-vom
 -feinsten-14-08-2022-17-00.html
X-APPLE-STRUCTURED-LOCATION;VALUE=URI;X-ADDRESS="Bauerstraße 10, Marktredwi
 tz, 95615, Deutschland";X-APPLE-RADIUS=100;X-TITLE=Xenakis Pur – Percussio
 n vom Feinsten:GEO:50.00275\,12.08733
END:VEVENT
END:VCALENDAR
