BEGIN:VCALENDAR
VERSION:2.0
PRODID:-//91.233.84.75//NONSGML kigkonsult.se iCalcreator 2.24//
CALSCALE:GREGORIAN
METHOD:PUBLISH
X-WR-TIMEZONE:Europe/Berlin
BEGIN:VTIMEZONE
TZID:Europe/Berlin
X-LIC-LOCATION:Europe/Berlin
BEGIN:STANDARD
DTSTART:19701025T030000
TZOFFSETFROM:+0200
TZOFFSETTO:+0100
TZNAME:CET
END:STANDARD
BEGIN:DAYLIGHT
DTSTART:19700329T020000
TZOFFSETFROM:+0100
TZOFFSETTO:+0200
TZNAME:CEST
END:DAYLIGHT
END:VTIMEZONE
BEGIN:VEVENT
UID:20260421T163826CEST-1551e5dade@91.233.84.75
DTSTAMP:20260421T143826Z
DESCRIPTION:Werke von J. Brahms und B. Martinů\nDas Mellon Streichsextett i
 m Rahmen des 71. Festival junger Künstler Bayreuth\nbei Schlechtwetter: Kl
 osterkirche Maria Immaculata
DTSTART:20210806T180000
DTEND:20210806T180000
GEO:+49.786969;+11.82031
LOCATION:Innenhof der Abtei &#40\;Open Air&#41\;\, Kloster\, 92676 Speinsha
 rt\, Deutschland
SUMMARY:Zeitenwende. festliches Konzert
URL:https://www.youngartistsbayreuth.de/en/event/zeitenwende-festliches-kon
 zert-06-08-2021-18-00.html
X-APPLE-STRUCTURED-LOCATION;VALUE=URI;X-ADDRESS="Kloster, Speinshart, 92676
 , Deutschland";X-APPLE-RADIUS=100;X-TITLE=Zeitenwende. festliches Konzert:
 GEO:49.7869694\,11.8203095
END:VEVENT
END:VCALENDAR
