BEGIN:VCALENDAR
VERSION:2.0
PRODID:-//91.233.84.75//NONSGML kigkonsult.se iCalcreator 2.24//
CALSCALE:GREGORIAN
METHOD:PUBLISH
X-WR-TIMEZONE:Europe/Berlin
BEGIN:VTIMEZONE
TZID:Europe/Berlin
X-LIC-LOCATION:Europe/Berlin
BEGIN:STANDARD
DTSTART:19701025T030000
TZOFFSETFROM:+0200
TZOFFSETTO:+0100
TZNAME:CET
END:STANDARD
BEGIN:DAYLIGHT
DTSTART:19700329T020000
TZOFFSETFROM:+0100
TZOFFSETTO:+0200
TZNAME:CEST
END:DAYLIGHT
END:VTIMEZONE
BEGIN:VEVENT
UID:20260421T163827CEST-06311336d6@91.233.84.75
DTSTAMP:20260421T143827Z
DESCRIPTION:Werke von J. Brahms und B. Martinů\nDas Mellon Streichsextett i
 m Rahmen des 71. Festival junger Künstler Bayreuth
DTSTART:20210808T200000
DTEND:20210808T200000
GEO:+50.051259;+11.797353
LOCATION:Kurhaus\, Jägerstraße 9\, 95493 Bischofsgrün\, Deutschland
SUMMARY:Zeitenwende. festliches Konzert
URL:https://www.youngartistsbayreuth.de/en/event/zeitenwende-festliches-kon
 zert-08-08-2021-20-00.html
X-APPLE-STRUCTURED-LOCATION;VALUE=URI;X-ADDRESS="Jägerstraße 9, Bischofsgrü
 n, 95493, Deutschland";X-APPLE-RADIUS=100;X-TITLE=Zeitenwende. festliches 
 Konzert:GEO:50.0512587\,11.7973533
END:VEVENT
END:VCALENDAR
