BEGIN:VCALENDAR
VERSION:2.0
PRODID:-//91.233.84.75//NONSGML kigkonsult.se iCalcreator 2.24//
CALSCALE:GREGORIAN
METHOD:PUBLISH
X-WR-TIMEZONE:Europe/Berlin
BEGIN:VTIMEZONE
TZID:Europe/Berlin
X-LIC-LOCATION:Europe/Berlin
BEGIN:STANDARD
DTSTART:19701025T030000
TZOFFSETFROM:+0200
TZOFFSETTO:+0100
TZNAME:CET
END:STANDARD
BEGIN:DAYLIGHT
DTSTART:19700329T020000
TZOFFSETFROM:+0100
TZOFFSETTO:+0200
TZNAME:CEST
END:DAYLIGHT
END:VTIMEZONE
BEGIN:VEVENT
UID:20260421T150302CEST-1959fffc70@91.233.84.75
DTSTAMP:20260421T130302Z
DESCRIPTION:Isabel Grübl\, Mezzosopran\, Preisträgerin des Wettbewerbs des 
 Orff-Zentrums\nLucca Verdi Pires\, Klavier
DTSTART:20240807T200000
DTEND:20240807T200000
GEO:+49.99474;+11.784584
LOCATION:Evangelische Dreifaltigkeitskirche\, Kirchweg 19\, 95485 Warmenste
 inach\, Deutschland
SUMMARY:Zukunftsklänge.Frauen und Balladen
URL:https://www.youngartistsbayreuth.de/de/veranstaltung/zukunftskl%C3%A4ng
 e-frauen-und-balladen-07-08-2024-20-00.html
X-APPLE-STRUCTURED-LOCATION;VALUE=URI;X-ADDRESS="Kirchweg 19, Warmensteinac
 h, 95485, Deutschland";X-APPLE-RADIUS=100;X-TITLE=Zukunftsklänge.Frauen un
 d Balladen:GEO:49.9947401\,11.7845842
END:VEVENT
END:VCALENDAR
